BEGIN:VCALENDAR
VERSION:2.0
PRODID:-//Kurhotel Waldschlößchen - ECPv6.15.20//NONSGML v1.0//EN
CALSCALE:GREGORIAN
METHOD:PUBLISH
X-ORIGINAL-URL:https://kurhotel-waldschloesschen.de
X-WR-CALDESC:Veranstaltungen für Kurhotel Waldschlößchen
REFRESH-INTERVAL;VALUE=DURATION:PT1H
X-Robots-Tag:noindex
X-PUBLISHED-TTL:PT1H
BEGIN:VTIMEZONE
TZID:Europe/Berlin
BEGIN:DAYLIGHT
TZOFFSETFROM:+0100
TZOFFSETTO:+0200
TZNAME:CEST
DTSTART:20240331T010000
END:DAYLIGHT
BEGIN:STANDARD
TZOFFSETFROM:+0200
TZOFFSETTO:+0100
TZNAME:CET
DTSTART:20241027T010000
END:STANDARD
BEGIN:DAYLIGHT
TZOFFSETFROM:+0100
TZOFFSETTO:+0200
TZNAME:CEST
DTSTART:20250330T010000
END:DAYLIGHT
BEGIN:STANDARD
TZOFFSETFROM:+0200
TZOFFSETTO:+0100
TZNAME:CET
DTSTART:20251026T010000
END:STANDARD
BEGIN:DAYLIGHT
TZOFFSETFROM:+0100
TZOFFSETTO:+0200
TZNAME:CEST
DTSTART:20260329T010000
END:DAYLIGHT
BEGIN:STANDARD
TZOFFSETFROM:+0200
TZOFFSETTO:+0100
TZNAME:CET
DTSTART:20261025T010000
END:STANDARD
END:VTIMEZONE
BEGIN:VEVENT
DTSTART;TZID=Europe/Berlin:20250511T120000
DTEND;TZID=Europe/Berlin:20250511T150000
DTSTAMP:20260423T070014
CREATED:20250402T120151Z
LAST-MODIFIED:20250402T125247Z
UID:292-1746964800-1746975600@kurhotel-waldschloesschen.de
SUMMARY:Muttertagsbuffet - Das Beste für die Mama
DESCRIPTION:Überraschen Sie die wichtigste Frau in Ihrem Leben\nmit unserem liebevoll zusammengestellten Muttertagsmenü!\nVerwöhnen Sie Ihre Mama mit köstlichen\, frisch zubereiteten Gerichten\, die von Herzen kommen.\nGenießen Sie ein festliches Ambiente und unvergessliche Momente\,\nwährend wir für Sie und Ihre Familie da sind.\nFeiern Sie die Liebe und Dankbarkeit – denn jede Mama verdient einen besonderen Tag!\nReservieren Sie jetzt für 34\,50 Euro pro Person und machen Sie diesen Muttertag unvergesslich!
URL:https://kurhotel-waldschloesschen.de/event/muttertagsbuffet-das-beste-fuer-die-mama/
LOCATION:Hotel Waldschlößchen\, Dr.-Heinrich-Jasper-Str. 13\, Bad Gandersheim\, Niedersachsen\, 37581\, Germany
CATEGORIES:Buffet
ATTACH;FMTTYPE=image/jpeg:https://kurhotel-waldschloesschen.de/wp-content/uploads/2025/04/AdobeStock_332726706_Preview-e1743595124127.jpeg
END:VEVENT
BEGIN:VEVENT
DTSTART;TZID=Europe/Berlin:20250427T120000
DTEND;TZID=Europe/Berlin:20250427T150000
DTSTAMP:20260423T070014
CREATED:20250402T123158Z
LAST-MODIFIED:20250402T125235Z
UID:310-1745755200-1745766000@kurhotel-waldschloesschen.de
SUMMARY:Heute bleibt die Küche kalt - auf zum Matjesbuffet!
DESCRIPTION:Genießen Sie den Geschmack des Nordens mit unserem exquisiten\nMatjesbuffet für 24\,50 Euro pro Person!\nLassen Sie sich von zarten Matjesfilets\, frisch zubereiteten Beilagen\nund köstlichen Saucen verführen. Ob klassisch mit Zwiebeln\nund Äpfeln oder kreativ interpretiert – unser Buffet bietet für jeden Gaumen das Richtige.\nPerfekt für gesellige Runden mit Freunden oder der Familie.\nKommen Sie vorbei und erleben Sie ein maritimes Festmahl\, das Ihre Sinne verzaubert!\nReservieren Sie jetzt – Wir freuen uns auf Ihren Besuch!
URL:https://kurhotel-waldschloesschen.de/event/heute-bleibt-die-kueche-kalt-auf-zum-matjesbuffet/
LOCATION:Hotel Waldschlößchen\, Dr.-Heinrich-Jasper-Str. 13\, Bad Gandersheim\, Niedersachsen\, 37581\, Germany
CATEGORIES:Buffet
ATTACH;FMTTYPE=image/jpeg:https://kurhotel-waldschloesschen.de/wp-content/uploads/2025/04/AdobeStock_180524077_Preview-e1743597468672.jpeg
END:VEVENT
END:VCALENDAR